BEGIN:VCALENDAR
VERSION:2.0
METHOD:PUBLISH
PRODID::-//Obvius//NONSGML ICal//DA
BEGIN:VEVENT
UID:3596564@nordicpop.ku.dk
DESCRIPTION:\n\nhttps://nordicpop.ku.dk/events/tromsoe-workshop-on-advance
 s-in-skin-therapy/
SUMMARY:Tromsø: Workshop on Advances in skin therapy 
LOCATION:UiT The Arctic University of Norway\, Tromsø
ORGANIZER:mailto:Gøril Eide Flaten\, UiT the Arctic University of Norway\
 , goril.flaten@uit.no
DTSTART:20220606T220000Z
DTSTAMP:20220606T220000Z
DTEND:20220608T220000Z
END:VEVENT
END:VCALENDAR
